BEGIN:VCALENDAR
VERSION:2.0
PRODID:-//ARMLP - ECPv6.8.3//NONSGML v1.0//EN
CALSCALE:GREGORIAN
METHOD:PUBLISH
X-ORIGINAL-URL:https://armlp.fr
X-WR-CALDESC:Évènements pour ARMLP
REFRESH-INTERVAL;VALUE=DURATION:PT1H
X-Robots-Tag:noindex
X-PUBLISHED-TTL:PT1H
BEGIN:VTIMEZONE
TZID:UTC
BEGIN:STANDARD
TZOFFSETFROM:+0000
TZOFFSETTO:+0000
TZNAME:UTC
DTSTART:20260101T000000
END:STANDARD
END:VTIMEZONE
BEGIN:VEVENT
DTSTART;TZID=UTC:20260302T101500
DTEND;TZID=UTC:20260302T114500
DTSTAMP:20260422T145906
CREATED:20251025T152624Z
LAST-MODIFIED:20251025T152624Z
UID:2957-1772446500-1772451900@armlp.fr
SUMMARY:SOPHROLOGIE
DESCRIPTION:
URL:https://armlp.fr/event/sophrologie-2-5-6/
LOCATION:Maison de quartier Denise Dupleix\, 15 avenue André Ampère\, Saint-Cyr-Sur-Loire\, Indre-et-Loire\, 37540\, France
CATEGORIES:sophrologie
ATTACH;FMTTYPE=image/png:https://armlp.fr/wp-content/uploads/2025/08/image.png
ORGANIZER;CN="ARMLP":MAILTO:armlp37@gmail.com
END:VEVENT
BEGIN:VEVENT
DTSTART;TZID=UTC:20260309T101500
DTEND;TZID=UTC:20260309T114500
DTSTAMP:20260422T145906
CREATED:20251025T152817Z
LAST-MODIFIED:20251025T152817Z
UID:2958-1773051300-1773056700@armlp.fr
SUMMARY:SOPHROLOGIE
DESCRIPTION:
URL:https://armlp.fr/event/sophrologie-2-5-7/
LOCATION:Maison de quartier Denise Dupleix\, 15 avenue André Ampère\, Saint-Cyr-Sur-Loire\, Indre-et-Loire\, 37540\, France
CATEGORIES:sophrologie
ATTACH;FMTTYPE=image/png:https://armlp.fr/wp-content/uploads/2025/08/image.png
ORGANIZER;CN="ARMLP":MAILTO:armlp37@gmail.com
END:VEVENT
BEGIN:VEVENT
DTSTART;TZID=UTC:20260320T000000
DTEND;TZID=UTC:20260320T000000
DTSTAMP:20260422T145906
CREATED:20251004T155405Z
LAST-MODIFIED:20251004T155405Z
UID:2852-1773964800-1773964800@armlp.fr
SUMMARY:Atelier Floral🌸
DESCRIPTION:Découvrez l’art de composer de magnifiques arrangements floraux lors de notre Atelier Floral organisé par l’association ARMLP. Une expérience enrichissante et créative vous attend\, accessible à tous les amateurs de fleurs\, que vous soyez débutant ou expérimenté. \n\nQuand et où ?\n📅 Environ 1 fois par mois\, des décalages peuvent intervenir selon les disponibilités d’Amandine\n⏰ De 15h a 17h\n📍 Lieu : salle n° 2 de la Maison de Quartier \n\nUn moment floral unique et convivial\nPendant près de deux heures\, plongez dans l’univers floral et apprenez à confectionner vos propres bouquets ou compositions sous la supervision d’un(e) animateur(trice) passionné(e). \n✨ Ce que vous apprendrez : \n\nTechniques de base pour composer des bouquets.\nAstuces pour harmoniser les couleurs et les textures.\nEntretien et soin des fleurs pour prolonger leur beauté.\n\n\nConditions de participation\n🔹 Participation : 30 €\n🔹 Minimum 5 participants requis pour valider l’atelier. \nPour garantir une ambiance chaleureuse et personnalisée\, le nombre de places est limité. N’attendez pas pour réserver ! \n\nPourquoi participer ?\n\nSe reconnecter à la nature et exprimer sa créativité.\nPartager un moment convivial avec d’autres passionnés.\nRepartir avec votre création florale\, fièrement réalisée par vos soins.\n\n\nComment s’inscrire ?\nPour toute inscription ou renseignement\, contactez directement l’association ARMLP par email : armlp37@gmail.com. \n\n🌸 Rejoignez-nous pour un moment fleuri et créatif qui éveillera vos sens et embellira votre quotidien. 🌸 \nÀ vos fleurs\, prêts… créez !
URL:https://armlp.fr/event/atelier-floral%f0%9f%8c%b8-7-4-3/
LOCATION:Maison de quartier Denise Dupleix\, 15 avenue André Ampère\, Saint-Cyr-Sur-Loire\, Indre-et-Loire\, 37540\, France
CATEGORIES:Atelier Floral
ATTACH;FMTTYPE=image/jpeg:https://armlp.fr/wp-content/uploads/2025/01/Atelier-floral-de-decembre-2024-scaled.jpg
ORGANIZER;CN="ARMLP":MAILTO:armlp37@gmail.com
END:VEVENT
BEGIN:VEVENT
DTSTART;TZID=UTC:20260330T101500
DTEND;TZID=UTC:20260330T114500
DTSTAMP:20260422T145906
CREATED:20251025T152919Z
LAST-MODIFIED:20251025T152919Z
UID:2959-1774865700-1774871100@armlp.fr
SUMMARY:SOPHROLOGIE
DESCRIPTION:
URL:https://armlp.fr/event/sophrologie-2-5-8/
LOCATION:Maison de quartier Denise Dupleix\, 15 avenue André Ampère\, Saint-Cyr-Sur-Loire\, Indre-et-Loire\, 37540\, France
CATEGORIES:sophrologie
ATTACH;FMTTYPE=image/png:https://armlp.fr/wp-content/uploads/2025/08/image.png
ORGANIZER;CN="ARMLP":MAILTO:armlp37@gmail.com
END:VEVENT
END:VCALENDAR