BEGIN:VCALENDAR
VERSION:2.0
PRODID:-//ARMLP - ECPv6.8.3//NONSGML v1.0//EN
CALSCALE:GREGORIAN
METHOD:PUBLISH
X-ORIGINAL-URL:https://armlp.fr
X-WR-CALDESC:Évènements pour ARMLP
REFRESH-INTERVAL;VALUE=DURATION:PT1H
X-Robots-Tag:noindex
X-PUBLISHED-TTL:PT1H
BEGIN:VTIMEZONE
TZID:UTC
BEGIN:STANDARD
TZOFFSETFROM:+0000
TZOFFSETTO:+0000
TZNAME:UTC
DTSTART:20260101T000000
END:STANDARD
END:VTIMEZONE
BEGIN:VEVENT
DTSTART;TZID=UTC:20260209T101500
DTEND;TZID=UTC:20260209T114500
DTSTAMP:20260422T162723
CREATED:20251025T152311Z
LAST-MODIFIED:20251025T152311Z
UID:2955-1770632100-1770637500@armlp.fr
SUMMARY:SOPHROLOGIE
DESCRIPTION:
URL:https://armlp.fr/event/sophrologie-2-5-4/
LOCATION:Maison de quartier Denise Dupleix\, 15 avenue André Ampère\, Saint-Cyr-Sur-Loire\, Indre-et-Loire\, 37540\, France
CATEGORIES:sophrologie
ATTACH;FMTTYPE=image/png:https://armlp.fr/wp-content/uploads/2025/08/image.png
ORGANIZER;CN="ARMLP":MAILTO:armlp37@gmail.com
END:VEVENT
BEGIN:VEVENT
DTSTART;TZID=UTC:20260215T140000
DTEND;TZID=UTC:20260215T180000
DTSTAMP:20260422T162723
CREATED:20260116T144825Z
LAST-MODIFIED:20260214T164838Z
UID:3040-1771164000-1771178400@armlp.fr
SUMMARY:LOTO 2026 COMPLET😢
DESCRIPTION:
URL:https://armlp.fr/event/loto-2026/
LOCATION:Salle Rabelais-Espace Jacques Chirac\, Saint Cyr sur loire\, 37540\, France
CATEGORIES:2026
ATTACH;FMTTYPE=application/pdf:https://armlp.fr/wp-content/uploads/2026/01/AFFICHE-LOTO-15-02-26-1.pdf
ORGANIZER;CN="ARMLP":MAILTO:armlp37@gmail.com
END:VEVENT
BEGIN:VEVENT
DTSTART;TZID=UTC:20260220T000000
DTEND;TZID=UTC:20260220T000000
DTSTAMP:20260422T162723
CREATED:20251004T155236Z
LAST-MODIFIED:20251004T155236Z
UID:2851-1771545600-1771545600@armlp.fr
SUMMARY:Atelier Floral🌸
DESCRIPTION:Découvrez l’art de composer de magnifiques arrangements floraux lors de notre Atelier Floral organisé par l’association ARMLP. Une expérience enrichissante et créative vous attend\, accessible à tous les amateurs de fleurs\, que vous soyez débutant ou expérimenté. \n\nQuand et où ?\n📅 Environ 1 fois par mois\, des décalages peuvent intervenir selon les disponibilités d’Amandine\n⏰ De 15h a 17h\n📍 Lieu : salle n° 2 de la Maison de Quartier \n\nUn moment floral unique et convivial\nPendant près de deux heures\, plongez dans l’univers floral et apprenez à confectionner vos propres bouquets ou compositions sous la supervision d’un(e) animateur(trice) passionné(e). \n✨ Ce que vous apprendrez : \n\nTechniques de base pour composer des bouquets.\nAstuces pour harmoniser les couleurs et les textures.\nEntretien et soin des fleurs pour prolonger leur beauté.\n\n\nConditions de participation\n🔹 Participation : 30 €\n🔹 Minimum 5 participants requis pour valider l’atelier. \nPour garantir une ambiance chaleureuse et personnalisée\, le nombre de places est limité. N’attendez pas pour réserver ! \n\nPourquoi participer ?\n\nSe reconnecter à la nature et exprimer sa créativité.\nPartager un moment convivial avec d’autres passionnés.\nRepartir avec votre création florale\, fièrement réalisée par vos soins.\n\n\nComment s’inscrire ?\nPour toute inscription ou renseignement\, contactez directement l’association ARMLP par email : armlp37@gmail.com. \n\n🌸 Rejoignez-nous pour un moment fleuri et créatif qui éveillera vos sens et embellira votre quotidien. 🌸 \nÀ vos fleurs\, prêts… créez !
URL:https://armlp.fr/event/atelier-floral%f0%9f%8c%b8-7-4-2/
LOCATION:Maison de quartier Denise Dupleix\, 15 avenue André Ampère\, Saint-Cyr-Sur-Loire\, Indre-et-Loire\, 37540\, France
CATEGORIES:Atelier Floral
ATTACH;FMTTYPE=image/jpeg:https://armlp.fr/wp-content/uploads/2025/01/Atelier-floral-de-decembre-2024-scaled.jpg
ORGANIZER;CN="ARMLP":MAILTO:armlp37@gmail.com
END:VEVENT
BEGIN:VEVENT
DTSTART;TZID=UTC:20260223T101500
DTEND;TZID=UTC:20260223T114500
DTSTAMP:20260422T162723
CREATED:20251025T152442Z
LAST-MODIFIED:20251025T152442Z
UID:2956-1771841700-1771847100@armlp.fr
SUMMARY:SOPHROLOGIE
DESCRIPTION:
URL:https://armlp.fr/event/sophrologie-2-5-5/
LOCATION:Maison de quartier Denise Dupleix\, 15 avenue André Ampère\, Saint-Cyr-Sur-Loire\, Indre-et-Loire\, 37540\, France
CATEGORIES:sophrologie
ATTACH;FMTTYPE=image/png:https://armlp.fr/wp-content/uploads/2025/08/image.png
ORGANIZER;CN="ARMLP":MAILTO:armlp37@gmail.com
END:VEVENT
END:VCALENDAR