BEGIN:VCALENDAR
VERSION:2.0
PRODID:-//ARMLP - ECPv6.8.3//NONSGML v1.0//EN
CALSCALE:GREGORIAN
METHOD:PUBLISH
X-WR-CALNAME:ARMLP
X-ORIGINAL-URL:https://armlp.fr
X-WR-CALDESC:Évènements pour ARMLP
REFRESH-INTERVAL;VALUE=DURATION:PT1H
X-Robots-Tag:noindex
X-PUBLISHED-TTL:PT1H
BEGIN:VTIMEZONE
TZID:UTC
BEGIN:STANDARD
TZOFFSETFROM:+0000
TZOFFSETTO:+0000
TZNAME:UTC
DTSTART:20260101T000000
END:STANDARD
END:VTIMEZONE
BEGIN:VEVENT
DTSTART;VALUE=DATE:20260101
DTEND;VALUE=DATE:20260102
DTSTAMP:20260422T175936
CREATED:20251231T163038Z
LAST-MODIFIED:20251231T163038Z
UID:3014-1767225600-1767311999@armlp.fr
SUMMARY:BONNE ANNEE 2026
DESCRIPTION:
URL:https://armlp.fr/event/bonne-annee-2026/
CATEGORIES:2025
ORGANIZER;CN="ARMLP":MAILTO:armlp37@gmail.com
END:VEVENT
BEGIN:VEVENT
DTSTART;TZID=UTC:20260112T101500
DTEND;TZID=UTC:20260112T114500
DTSTAMP:20260422T175936
CREATED:20251025T152022Z
LAST-MODIFIED:20251025T152022Z
UID:2954-1768212900-1768218300@armlp.fr
SUMMARY:SOPHROLOGIE
DESCRIPTION:
URL:https://armlp.fr/event/sophrologie-2-5-3/
LOCATION:Maison de quartier Denise Dupleix\, 15 avenue André Ampère\, Saint-Cyr-Sur-Loire\, Indre-et-Loire\, 37540\, France
CATEGORIES:sophrologie
ATTACH;FMTTYPE=image/png:https://armlp.fr/wp-content/uploads/2025/08/image.png
ORGANIZER;CN="ARMLP":MAILTO:armlp37@gmail.com
END:VEVENT
BEGIN:VEVENT
DTSTART;TZID=UTC:20260112T183000
DTEND;TZID=UTC:20260112T193000
DTSTAMP:20260422T175936
CREATED:20260110T141158Z
LAST-MODIFIED:20260110T141747Z
UID:3026-1768242600-1768246200@armlp.fr
SUMMARY:DO IN
DESCRIPTION:
URL:https://armlp.fr/event/do-in-2-10-5-2/
LOCATION:Maison de quartier Denise Dupleix\, 15 avenue André Ampère\, Saint-Cyr-Sur-Loire\, Indre-et-Loire\, 37540\, France
CATEGORIES:do in
ATTACH;FMTTYPE=image/jpeg:https://armlp.fr/wp-content/uploads/2025/08/do-in-pincement-nuque.jpg
END:VEVENT
BEGIN:VEVENT
DTSTART;TZID=UTC:20260116T000000
DTEND;TZID=UTC:20260116T000000
DTSTAMP:20260422T175936
CREATED:20251004T161203Z
LAST-MODIFIED:20251004T161610Z
UID:2875-1768521600-1768521600@armlp.fr
SUMMARY:Assemblée Générale - 16 janvier 2026
DESCRIPTION:Assemblée Générale – Vendredi 16 janvier 2026\nChers adhérents\, \nC’est avec un immense plaisir que nous vous convions à notre Assemblée Générale annuelle\, un rendez-vous essentiel pour faire vivre et grandir notre association. \n📅 Quand ? Vendredi 16 janvier 2026 à 18h\n📍 Où ? Maison Denise Dupleix\, 19 Avenue André Ampère\, 37540 Saint-Cyr-sur-Loire \n\nUn moment clé pour échanger et construire ensemble\nCette soirée sera l’occasion : \n\nDe revenir sur les moments forts et les réalisations marquantes de l’année écoulée.\nD’explorer ensemble les projets ambitieux et inspirants qui façonneront notre avenir.\nDe partager vos idées\, vos attentes et vos suggestions afin de continuer à bâtir une organisation qui vous ressemble et qui répond à vos besoins.\n\nChaque voix compte\, et la vôtre est précieuse pour la dynamique collective et le succès de nos actions. Ensemble\, donnons vie à nos projets pour 2026 ! \n\nRenouvelez ou créez votre adhésion 2026\nProfitez de cette rencontre pour renouveler ou souscrire à votre carte d’adhésion pour l’année 2026\, au tarif inchangé de 15€. Plusieurs options pratiques s’offrent à vous : \n\nPar virement bancaire (pensez à bien préciser votre nom).\nLors des permanences à la maison de quartier : les vendredis après-midi de 14h30 à 17h en janvier et février.\nEn déposant un chèque directement dans la boîte aux lettres de l’ARMLP au 15 Avenue Ampère.\nSur rendez-vous : à la maison de quartier ou directement à votre domicile.\n\n🔗 Vous trouverez ci-dessous la demande d’adhésion.\nCliquez sur le lien \n\nVotre présence fait la différence !\nNous vous invitons chaleureusement à nous rejoindre pour ce moment convivial\, d’échange et de construction commune. En participant\, vous contribuez à écrire l’avenir de notre association\, tout en partageant un temps fort avec d’autres membres engagés et passionnés. \nNous avons hâte de vous retrouver et d’échanger avec vous ! Ensemble\, avançons pour une année 2026 dynamique et pleine de réussite. \nÀ très bientôt ! \nL’équipe de l’ARMLP
URL:https://armlp.fr/event/assemblee-generale-17-janvier-2025-2/
LOCATION:Maison de quartier Denise Dupleix\, 15 avenue André Ampère\, Saint-Cyr-Sur-Loire\, Indre-et-Loire\, 37540\, France
CATEGORIES:2025,Assemblée Générale
ATTACH;FMTTYPE=image/webp:https://armlp.fr/wp-content/uploads/2024/12/Desktop-3-1.webp
END:VEVENT
BEGIN:VEVENT
DTSTART;TZID=UTC:20260116T110000
DTEND;TZID=UTC:20260116T120000
DTSTAMP:20260422T175936
CREATED:20260110T141656Z
LAST-MODIFIED:20260110T141656Z
UID:3027-1768561200-1768564800@armlp.fr
SUMMARY:DO IN
DESCRIPTION:
URL:https://armlp.fr/event/do-in-2-10-5-3/
LOCATION:Maison de quartier Denise Dupleix\, 15 avenue André Ampère\, Saint-Cyr-Sur-Loire\, Indre-et-Loire\, 37540\, France
CATEGORIES:do in
ATTACH;FMTTYPE=image/jpeg:https://armlp.fr/wp-content/uploads/2025/08/do-in-pincement-nuque.jpg
END:VEVENT
BEGIN:VEVENT
DTSTART;TZID=UTC:20260119T183000
DTEND;TZID=UTC:20260119T193000
DTSTAMP:20260422T175936
CREATED:20260110T141923Z
LAST-MODIFIED:20260110T141923Z
UID:3028-1768847400-1768851000@armlp.fr
SUMMARY:DO IN
DESCRIPTION:
URL:https://armlp.fr/event/do-in-2-10-5-4/
LOCATION:Maison de quartier Denise Dupleix\, 15 avenue André Ampère\, Saint-Cyr-Sur-Loire\, Indre-et-Loire\, 37540\, France
CATEGORIES:do in
ATTACH;FMTTYPE=image/jpeg:https://armlp.fr/wp-content/uploads/2025/08/do-in-pincement-nuque.jpg
ORGANIZER;CN="ARMLP":MAILTO:armlp37@gmail.com
END:VEVENT
BEGIN:VEVENT
DTSTART;TZID=UTC:20260123T110000
DTEND;TZID=UTC:20260123T120000
DTSTAMP:20260422T175936
CREATED:20260110T142028Z
LAST-MODIFIED:20260110T142028Z
UID:3029-1769166000-1769169600@armlp.fr
SUMMARY:DO IN
DESCRIPTION:
URL:https://armlp.fr/event/do-in-2-10-5-5/
LOCATION:Maison de quartier Denise Dupleix\, 15 avenue André Ampère\, Saint-Cyr-Sur-Loire\, Indre-et-Loire\, 37540\, France
CATEGORIES:do in
ATTACH;FMTTYPE=image/jpeg:https://armlp.fr/wp-content/uploads/2025/08/do-in-pincement-nuque.jpg
ORGANIZER;CN="ARMLP":MAILTO:armlp37@gmail.com
END:VEVENT
BEGIN:VEVENT
DTSTART;TZID=UTC:20260123T140000
DTEND;TZID=UTC:20260123T160000
DTSTAMP:20260422T175936
CREATED:20260110T142721Z
LAST-MODIFIED:20260110T142721Z
UID:3038-1769176800-1769184000@armlp.fr
SUMMARY:ATELIER COUTURE ✂👗 #2
DESCRIPTION:
URL:https://armlp.fr/event/atelier-couture-%e2%9c%82%f0%9f%91%97-2-3-2/
LOCATION:Maison de quartier Denise Dupleix\, 15 avenue André Ampère\, Saint-Cyr-Sur-Loire\, Indre-et-Loire\, 37540\, France
CATEGORIES:Atelier Couture
ATTACH;FMTTYPE=image/avif:https://armlp.fr/wp-content/uploads/2025/01/photo-1457972657980-4c9fddebec8d.avif
ORGANIZER;CN="ARMLP":MAILTO:armlp37@gmail.com
END:VEVENT
BEGIN:VEVENT
DTSTART;TZID=UTC:20260126T101500
DTEND;TZID=UTC:20260126T114500
DTSTAMP:20260422T175936
CREATED:20251025T151625Z
LAST-MODIFIED:20251025T151838Z
UID:2953-1769422500-1769427900@armlp.fr
SUMMARY:SOPHROLOGIE
DESCRIPTION:
URL:https://armlp.fr/event/sophrologie-2-5-2/
LOCATION:Maison de quartier Denise Dupleix\, 15 avenue André Ampère\, Saint-Cyr-Sur-Loire\, Indre-et-Loire\, 37540\, France
CATEGORIES:sophrologie
ATTACH;FMTTYPE=image/png:https://armlp.fr/wp-content/uploads/2025/08/image.png
ORGANIZER;CN="ARMLP":MAILTO:armlp37@gmail.com
END:VEVENT
BEGIN:VEVENT
DTSTART;TZID=UTC:20260126T183000
DTEND;TZID=UTC:20260126T193000
DTSTAMP:20260422T175936
CREATED:20260110T142130Z
LAST-MODIFIED:20260110T142130Z
UID:3030-1769452200-1769455800@armlp.fr
SUMMARY:DO IN
DESCRIPTION:
URL:https://armlp.fr/event/do-in-2-10-5-6/
LOCATION:Maison de quartier Denise Dupleix\, 15 avenue André Ampère\, Saint-Cyr-Sur-Loire\, Indre-et-Loire\, 37540\, France
CATEGORIES:do in
ATTACH;FMTTYPE=image/jpeg:https://armlp.fr/wp-content/uploads/2025/08/do-in-pincement-nuque.jpg
ORGANIZER;CN="ARMLP":MAILTO:armlp37@gmail.com
END:VEVENT
BEGIN:VEVENT
DTSTART;TZID=UTC:20260130T000000
DTEND;TZID=UTC:20260130T000000
DTSTAMP:20260422T175936
CREATED:20251004T154908Z
LAST-MODIFIED:20251004T155028Z
UID:2849-1769731200-1769731200@armlp.fr
SUMMARY:Atelier Floral🌸
DESCRIPTION:Découvrez l’art de composer de magnifiques arrangements floraux lors de notre Atelier Floral organisé par l’association ARMLP. Une expérience enrichissante et créative vous attend\, accessible à tous les amateurs de fleurs\, que vous soyez débutant ou expérimenté. \n\nQuand et où ?\n📅 Environ 1 fois par mois\, des décalages peuvent intervenir selon les disponibilités d’Amandine\n⏰ De 15h a 17h\n📍 Lieu : salle n° 2 de la Maison de Quartier \n\nUn moment floral unique et convivial\nPendant près de deux heures\, plongez dans l’univers floral et apprenez à confectionner vos propres bouquets ou compositions sous la supervision d’un(e) animateur(trice) passionné(e). \n✨ Ce que vous apprendrez : \n\nTechniques de base pour composer des bouquets.\nAstuces pour harmoniser les couleurs et les textures.\nEntretien et soin des fleurs pour prolonger leur beauté.\n\n\nConditions de participation\n🔹 Participation : 30 €\n🔹 Minimum 5 participants requis pour valider l’atelier. \nPour garantir une ambiance chaleureuse et personnalisée\, le nombre de places est limité. N’attendez pas pour réserver ! \n\nPourquoi participer ?\n\nSe reconnecter à la nature et exprimer sa créativité.\nPartager un moment convivial avec d’autres passionnés.\nRepartir avec votre création florale\, fièrement réalisée par vos soins.\n\n\nComment s’inscrire ?\nPour toute inscription ou renseignement\, contactez directement l’association ARMLP par email : armlp37@gmail.com. \n\n🌸 Rejoignez-nous pour un moment fleuri et créatif qui éveillera vos sens et embellira votre quotidien. 🌸 \nÀ vos fleurs\, prêts… créez !
URL:https://armlp.fr/event/atelier-floral%f0%9f%8c%b8-8/
LOCATION:Maison de quartier Denise Dupleix\, 15 avenue André Ampère\, Saint-Cyr-Sur-Loire\, Indre-et-Loire\, 37540\, France
CATEGORIES:Atelier Floral
ATTACH;FMTTYPE=image/jpeg:https://armlp.fr/wp-content/uploads/2025/01/Atelier-floral-de-decembre-2024-scaled.jpg
ORGANIZER;CN="ARMLP":MAILTO:armlp37@gmail.com
END:VEVENT
BEGIN:VEVENT
DTSTART;TZID=UTC:20260130T110000
DTEND;TZID=UTC:20260130T120000
DTSTAMP:20260422T175936
CREATED:20260110T142231Z
LAST-MODIFIED:20260110T142413Z
UID:3031-1769770800-1769774400@armlp.fr
SUMMARY:DO IN
DESCRIPTION:
URL:https://armlp.fr/event/do-in-2-10-5-7/
LOCATION:Maison de quartier Denise Dupleix\, 15 avenue André Ampère\, Saint-Cyr-Sur-Loire\, Indre-et-Loire\, 37540\, France
CATEGORIES:do in
ATTACH;FMTTYPE=image/jpeg:https://armlp.fr/wp-content/uploads/2025/08/do-in-pincement-nuque.jpg
ORGANIZER;CN="ARMLP":MAILTO:armlp37@gmail.com
END:VEVENT
END:VCALENDAR