BEGIN:VCALENDAR
VERSION:2.0
PRODID:-//ARMLP - ECPv6.8.3//NONSGML v1.0//EN
CALSCALE:GREGORIAN
METHOD:PUBLISH
X-WR-CALNAME:ARMLP
X-ORIGINAL-URL:https://armlp.fr
X-WR-CALDESC:Évènements pour ARMLP
REFRESH-INTERVAL;VALUE=DURATION:PT1H
X-Robots-Tag:noindex
X-PUBLISHED-TTL:PT1H
BEGIN:VTIMEZONE
TZID:UTC
BEGIN:STANDARD
TZOFFSETFROM:+0000
TZOFFSETTO:+0000
TZNAME:UTC
DTSTART:20250101T000000
END:STANDARD
END:VTIMEZONE
BEGIN:VEVENT
DTSTART;TZID=UTC:20251103T103000
DTEND;TZID=UTC:20251103T113000
DTSTAMP:20260422T205908
CREATED:20251005T154555Z
LAST-MODIFIED:20251005T154555Z
UID:2926-1762165800-1762169400@armlp.fr
SUMMARY:SOPHROLOGIE
DESCRIPTION:
URL:https://armlp.fr/event/sophrologie-2-3/
LOCATION:Maison de quartier Denise Dupleix\, 15 avenue André Ampère\, Saint-Cyr-Sur-Loire\, Indre-et-Loire\, 37540\, France
CATEGORIES:sophrologie
ATTACH;FMTTYPE=image/png:https://armlp.fr/wp-content/uploads/2025/08/image.png
ORGANIZER;CN="ARMLP":MAILTO:armlp37@gmail.com
END:VEVENT
BEGIN:VEVENT
DTSTART;TZID=UTC:20251103T183000
DTEND;TZID=UTC:20251103T193000
DTSTAMP:20260422T205908
CREATED:20251005T151731Z
LAST-MODIFIED:20251005T151731Z
UID:2887-1762194600-1762198200@armlp.fr
SUMMARY:DO IN
DESCRIPTION:
URL:https://armlp.fr/event/do-in-2-6/
LOCATION:Maison de quartier Denise Dupleix\, 15 avenue André Ampère\, Saint-Cyr-Sur-Loire\, Indre-et-Loire\, 37540\, France
CATEGORIES:do in
ATTACH;FMTTYPE=image/jpeg:https://armlp.fr/wp-content/uploads/2025/08/do-in-pincement-nuque.jpg
ORGANIZER;CN="ARMLP":MAILTO:armlp37@gmail.com
END:VEVENT
BEGIN:VEVENT
DTSTART;TZID=UTC:20251107T110000
DTEND;TZID=UTC:20251107T120000
DTSTAMP:20260422T205908
CREATED:20251005T151837Z
LAST-MODIFIED:20251005T152219Z
UID:2888-1762513200-1762516800@armlp.fr
SUMMARY:DO IN
DESCRIPTION:
URL:https://armlp.fr/event/do-in-2-7/
LOCATION:Maison de quartier Denise Dupleix\, 15 avenue André Ampère\, Saint-Cyr-Sur-Loire\, Indre-et-Loire\, 37540\, France
CATEGORIES:do in
ATTACH;FMTTYPE=image/jpeg:https://armlp.fr/wp-content/uploads/2025/08/do-in-pincement-nuque.jpg
ORGANIZER;CN="ARMLP":MAILTO:armlp37@gmail.com
END:VEVENT
BEGIN:VEVENT
DTSTART;TZID=UTC:20251110T183000
DTEND;TZID=UTC:20251110T193000
DTSTAMP:20260422T205908
CREATED:20251005T152332Z
LAST-MODIFIED:20251005T152332Z
UID:2890-1762799400-1762803000@armlp.fr
SUMMARY:DO IN
DESCRIPTION:
URL:https://armlp.fr/event/do-in-2-9/
LOCATION:Maison de quartier Denise Dupleix\, 15 avenue André Ampère\, Saint-Cyr-Sur-Loire\, Indre-et-Loire\, 37540\, France
CATEGORIES:do in
ATTACH;FMTTYPE=image/jpeg:https://armlp.fr/wp-content/uploads/2025/08/do-in-pincement-nuque.jpg
ORGANIZER;CN="ARMLP":MAILTO:armlp37@gmail.com
END:VEVENT
BEGIN:VEVENT
DTSTART;TZID=UTC:20251114T110000
DTEND;TZID=UTC:20251114T120000
DTSTAMP:20260422T205908
CREATED:20251005T152002Z
LAST-MODIFIED:20251005T152002Z
UID:2889-1763118000-1763121600@armlp.fr
SUMMARY:DO IN
DESCRIPTION:
URL:https://armlp.fr/event/do-in-2-8/
LOCATION:Maison de quartier Denise Dupleix\, 15 avenue André Ampère\, Saint-Cyr-Sur-Loire\, Indre-et-Loire\, 37540\, France
CATEGORIES:do in
ATTACH;FMTTYPE=image/jpeg:https://armlp.fr/wp-content/uploads/2025/08/do-in-pincement-nuque.jpg
ORGANIZER;CN="ARMLP":MAILTO:armlp37@gmail.com
END:VEVENT
BEGIN:VEVENT
DTSTART;TZID=UTC:20251114T140000
DTEND;TZID=UTC:20251114T160000
DTSTAMP:20260422T205908
CREATED:20251019T082130Z
LAST-MODIFIED:20251019T082548Z
UID:2946-1763128800-1763136000@armlp.fr
SUMMARY:ATELIER COUTURE ✂👗
DESCRIPTION:
URL:https://armlp.fr/event/atelier-couture-%e2%9c%82%f0%9f%91%97-2-2/
LOCATION:Maison de quartier Denise Dupleix\, 15 avenue André Ampère\, Saint-Cyr-Sur-Loire\, Indre-et-Loire\, 37540\, France
CATEGORIES:Atelier Couture
ATTACH;FMTTYPE=image/avif:https://armlp.fr/wp-content/uploads/2025/01/photo-1457972657980-4c9fddebec8d.avif
ORGANIZER;CN="ARMLP":MAILTO:armlp37@gmail.com
END:VEVENT
BEGIN:VEVENT
DTSTART;TZID=UTC:20251115T193000
DTEND;TZID=UTC:20251115T193000
DTSTAMP:20260422T205908
CREATED:20251102T165939Z
LAST-MODIFIED:20251102T170716Z
UID:2999-1763235000-1763235000@armlp.fr
SUMMARY:DINET DANSANT COMPLET
DESCRIPTION:
URL:https://armlp.fr/event/dinet-dansant-complet/
ATTACH;FMTTYPE=image/jpeg:https://armlp.fr/wp-content/uploads/2025/08/telecharge.jpeg
ORGANIZER;CN="ARMLP":MAILTO:armlp37@gmail.com
END:VEVENT
BEGIN:VEVENT
DTSTART;TZID=UTC:20251117T183000
DTEND;TZID=UTC:20251117T193000
DTSTAMP:20260422T205908
CREATED:20251005T152443Z
LAST-MODIFIED:20251005T152443Z
UID:2891-1763404200-1763407800@armlp.fr
SUMMARY:DO IN
DESCRIPTION:
URL:https://armlp.fr/event/do-in-2-10/
LOCATION:Maison de quartier Denise Dupleix\, 15 avenue André Ampère\, Saint-Cyr-Sur-Loire\, Indre-et-Loire\, 37540\, France
CATEGORIES:do in
ATTACH;FMTTYPE=image/jpeg:https://armlp.fr/wp-content/uploads/2025/08/do-in-pincement-nuque.jpg
ORGANIZER;CN="ARMLP":MAILTO:armlp37@gmail.com
END:VEVENT
BEGIN:VEVENT
DTSTART;TZID=UTC:20251121T110000
DTEND;TZID=UTC:20251121T120000
DTSTAMP:20260422T205908
CREATED:20251005T152918Z
LAST-MODIFIED:20251005T152918Z
UID:2911-1763722800-1763726400@armlp.fr
SUMMARY:DO IN
DESCRIPTION:
URL:https://armlp.fr/event/do-in-2-8-2/
LOCATION:Maison de quartier Denise Dupleix\, 15 avenue André Ampère\, Saint-Cyr-Sur-Loire\, Indre-et-Loire\, 37540\, France
CATEGORIES:do in
ATTACH;FMTTYPE=image/jpeg:https://armlp.fr/wp-content/uploads/2025/08/do-in-pincement-nuque.jpg
ORGANIZER;CN="ARMLP":MAILTO:armlp37@gmail.com
END:VEVENT
BEGIN:VEVENT
DTSTART;TZID=UTC:20251124T103000
DTEND;TZID=UTC:20251124T113000
DTSTAMP:20260422T205908
CREATED:20251005T154653Z
LAST-MODIFIED:20251005T154653Z
UID:2927-1763980200-1763983800@armlp.fr
SUMMARY:SOPHROLOGIE
DESCRIPTION:
URL:https://armlp.fr/event/sophrologie-2-4/
LOCATION:Maison de quartier Denise Dupleix\, 15 avenue André Ampère\, Saint-Cyr-Sur-Loire\, Indre-et-Loire\, 37540\, France
CATEGORIES:sophrologie
ATTACH;FMTTYPE=image/png:https://armlp.fr/wp-content/uploads/2025/08/image.png
ORGANIZER;CN="ARMLP":MAILTO:armlp37@gmail.com
END:VEVENT
BEGIN:VEVENT
DTSTART;TZID=UTC:20251124T183000
DTEND;TZID=UTC:20251124T193000
DTSTAMP:20260422T205908
CREATED:20251005T153018Z
LAST-MODIFIED:20251005T153018Z
UID:2912-1764009000-1764012600@armlp.fr
SUMMARY:DO IN
DESCRIPTION:
URL:https://armlp.fr/event/do-in-2-8-3/
LOCATION:Maison de quartier Denise Dupleix\, 15 avenue André Ampère\, Saint-Cyr-Sur-Loire\, Indre-et-Loire\, 37540\, France
CATEGORIES:do in
ATTACH;FMTTYPE=image/jpeg:https://armlp.fr/wp-content/uploads/2025/08/do-in-pincement-nuque.jpg
ORGANIZER;CN="ARMLP":MAILTO:armlp37@gmail.com
END:VEVENT
BEGIN:VEVENT
DTSTART;TZID=UTC:20251128T110000
DTEND;TZID=UTC:20251128T120000
DTSTAMP:20260422T205908
CREATED:20251005T153111Z
LAST-MODIFIED:20251005T153111Z
UID:2913-1764327600-1764331200@armlp.fr
SUMMARY:DO IN
DESCRIPTION:
URL:https://armlp.fr/event/do-in-2-8-4/
LOCATION:Maison de quartier Denise Dupleix\, 15 avenue André Ampère\, Saint-Cyr-Sur-Loire\, Indre-et-Loire\, 37540\, France
CATEGORIES:do in
ATTACH;FMTTYPE=image/jpeg:https://armlp.fr/wp-content/uploads/2025/08/do-in-pincement-nuque.jpg
ORGANIZER;CN="ARMLP":MAILTO:armlp37@gmail.com
END:VEVENT
BEGIN:VEVENT
DTSTART;TZID=UTC:20251129T140000
DTEND;TZID=UTC:20251129T160000
DTSTAMP:20260422T205908
CREATED:20251102T171158Z
LAST-MODIFIED:20251102T171158Z
UID:3002-1764424800-1764432000@armlp.fr
SUMMARY:EXPOSITION TRAVAUX ATELIER COUTURE ✂👗
DESCRIPTION:
URL:https://armlp.fr/event/atelier-couture-%e2%9c%82%f0%9f%91%97-2-2-2/
LOCATION:Maison de quartier Denise Dupleix\, 15 avenue André Ampère\, Saint-Cyr-Sur-Loire\, Indre-et-Loire\, 37540\, France
CATEGORIES:Atelier Couture
ATTACH;FMTTYPE=image/avif:https://armlp.fr/wp-content/uploads/2025/01/photo-1457972657980-4c9fddebec8d.avif
ORGANIZER;CN="ARMLP":MAILTO:armlp37@gmail.com
END:VEVENT
END:VCALENDAR