BEGIN:VCALENDAR
VERSION:2.0
PRODID:-//ARMLP - ECPv6.8.3//NONSGML v1.0//EN
CALSCALE:GREGORIAN
METHOD:PUBLISH
X-WR-CALNAME:ARMLP
X-ORIGINAL-URL:https://armlp.fr
X-WR-CALDESC:Évènements pour ARMLP
REFRESH-INTERVAL;VALUE=DURATION:PT1H
X-Robots-Tag:noindex
X-PUBLISHED-TTL:PT1H
BEGIN:VTIMEZONE
TZID:UTC
BEGIN:STANDARD
TZOFFSETFROM:+0000
TZOFFSETTO:+0000
TZNAME:UTC
DTSTART:20260101T000000
END:STANDARD
END:VTIMEZONE
BEGIN:VEVENT
DTSTART;TZID=UTC:20260427T101500
DTEND;TZID=UTC:20260427T114500
DTSTAMP:20260422T145420
CREATED:20251025T153225Z
LAST-MODIFIED:20251025T153225Z
UID:2961-1777284900-1777290300@armlp.fr
SUMMARY:SOPHROLOGIE
DESCRIPTION:
URL:https://armlp.fr/event/sophrologie-2-5-10/
LOCATION:Maison de quartier Denise Dupleix\, 15 avenue André Ampère\, Saint-Cyr-Sur-Loire\, Indre-et-Loire\, 37540\, France
CATEGORIES:sophrologie
ATTACH;FMTTYPE=image/png:https://armlp.fr/wp-content/uploads/2025/08/image.png
ORGANIZER;CN="ARMLP":MAILTO:armlp37@gmail.com
END:VEVENT
BEGIN:VEVENT
DTSTART;TZID=UTC:20260511T011500
DTEND;TZID=UTC:20260511T114500
DTSTAMP:20260422T145420
CREATED:20251025T153454Z
LAST-MODIFIED:20251025T153737Z
UID:2962-1778462100-1778499900@armlp.fr
SUMMARY:SOPHROLOGIE
DESCRIPTION:
URL:https://armlp.fr/event/sophrologie-2-5-11/
LOCATION:Maison de quartier Denise Dupleix\, 15 avenue André Ampère\, Saint-Cyr-Sur-Loire\, Indre-et-Loire\, 37540\, France
CATEGORIES:sophrologie
ATTACH;FMTTYPE=image/png:https://armlp.fr/wp-content/uploads/2025/08/image.png
ORGANIZER;CN="ARMLP":MAILTO:armlp37@gmail.com
END:VEVENT
BEGIN:VEVENT
DTSTART;TZID=UTC:20260515T000000
DTEND;TZID=UTC:20260515T000000
DTSTAMP:20260422T145420
CREATED:20251004T155906Z
LAST-MODIFIED:20260422T101649Z
UID:2855-1778803200-1778803200@armlp.fr
SUMMARY:Atelier Floral🌸
DESCRIPTION:Découvrez l’art de composer de magnifiques arrangements floraux lors de notre Atelier Floral organisé par l’association ARMLP. Une expérience enrichissante et créative vous attend\, accessible à tous les amateurs de fleurs\, que vous soyez débutant ou expérimenté. \n\nQuand et où ?\n📅 Environ 1 fois par mois\, des décalages peuvent intervenir selon les disponibilités d’Amandine\n⏰ De 15h a 17h\n📍 Lieu : salle n° 2 de la Maison de Quartier \n\nUn moment floral unique et convivial\nPendant près de deux heures\, plongez dans l’univers floral et apprenez à confectionner vos propres bouquets ou compositions sous la supervision d’un(e) animateur(trice) passionné(e). \n✨ Ce que vous apprendrez : \n\nTechniques de base pour composer des bouquets.\nAstuces pour harmoniser les couleurs et les textures.\nEntretien et soin des fleurs pour prolonger leur beauté.\n\n\nConditions de participation\n🔹 Participation : 30 €\n🔹 Minimum 5 participants requis pour valider l’atelier. \nPour garantir une ambiance chaleureuse et personnalisée\, le nombre de places est limité. N’attendez pas pour réserver ! \n\nPourquoi participer ?\n\nSe reconnecter à la nature et exprimer sa créativité.\nPartager un moment convivial avec d’autres passionnés.\nRepartir avec votre création florale\, fièrement réalisée par vos soins.\n\n\nComment s’inscrire ?\nPour toute inscription ou renseignement\, contactez directement l’association ARMLP par email : armlp37@gmail.com. \n\n🌸 Rejoignez-nous pour un moment fleuri et créatif qui éveillera vos sens et embellira votre quotidien. 🌸 \nÀ vos fleurs\, prêts… créez !
URL:https://armlp.fr/event/atelier-floral%f0%9f%8c%b8-7-4-6/
LOCATION:Maison de quartier Denise Dupleix\, 15 avenue André Ampère\, Saint-Cyr-Sur-Loire\, Indre-et-Loire\, 37540\, France
CATEGORIES:Atelier Floral
ATTACH;FMTTYPE=image/png:https://armlp.fr/wp-content/uploads/2025/10/Untitled_edited.png
END:VEVENT
BEGIN:VEVENT
DTSTART;TZID=UTC:20260518T101500
DTEND;TZID=UTC:20260518T114500
DTSTAMP:20260422T145420
CREATED:20251025T153616Z
LAST-MODIFIED:20251025T153616Z
UID:2963-1779099300-1779104700@armlp.fr
SUMMARY:SOPHROLOGIE
DESCRIPTION:
URL:https://armlp.fr/event/sophrologie-2-5-12/
LOCATION:Maison de quartier Denise Dupleix\, 15 avenue André Ampère\, Saint-Cyr-Sur-Loire\, Indre-et-Loire\, 37540\, France
CATEGORIES:sophrologie
ATTACH;FMTTYPE=image/png:https://armlp.fr/wp-content/uploads/2025/08/image.png
ORGANIZER;CN="ARMLP":MAILTO:armlp37@gmail.com
END:VEVENT
BEGIN:VEVENT
DTSTART;TZID=UTC:20260601T101500
DTEND;TZID=UTC:20260601T114500
DTSTAMP:20260422T145420
CREATED:20251025T154001Z
LAST-MODIFIED:20251025T154001Z
UID:2978-1780308900-1780314300@armlp.fr
SUMMARY:SOPHROLOGIE
DESCRIPTION:
URL:https://armlp.fr/event/sophrologie-2-5-13/
LOCATION:Maison de quartier Denise Dupleix\, 15 avenue André Ampère\, Saint-Cyr-Sur-Loire\, Indre-et-Loire\, 37540\, France
CATEGORIES:sophrologie
ATTACH;FMTTYPE=image/png:https://armlp.fr/wp-content/uploads/2025/08/image.png
ORGANIZER;CN="ARMLP":MAILTO:armlp37@gmail.com
END:VEVENT
BEGIN:VEVENT
DTSTART;TZID=UTC:20260612T000000
DTEND;TZID=UTC:20260612T000000
DTSTAMP:20260422T145420
CREATED:20251004T160051Z
LAST-MODIFIED:20260422T101538Z
UID:2870-1781222400-1781222400@armlp.fr
SUMMARY:Atelier Floral🌸
DESCRIPTION:Découvrez l’art de composer de magnifiques arrangements floraux lors de notre Atelier Floral organisé par l’association ARMLP. Une expérience enrichissante et créative vous attend\, accessible à tous les amateurs de fleurs\, que vous soyez débutant ou expérimenté. \n\nQuand et où ?\n📅 Environ 1 fois par mois\, des décalages peuvent intervenir selon les disponibilités d’Amandine\n⏰ De 15h a 17h\n📍 Lieu : salle n° 2 de la Maison de Quartier \n\nUn moment floral unique et convivial\nPendant près de deux heures\, plongez dans l’univers floral et apprenez à confectionner vos propres bouquets ou compositions sous la supervision d’un(e) animateur(trice) passionné(e). \n✨ Ce que vous apprendrez : \n\nTechniques de base pour composer des bouquets.\nAstuces pour harmoniser les couleurs et les textures.\nEntretien et soin des fleurs pour prolonger leur beauté.\n\n\nConditions de participation\n🔹 Participation : 30 €\n🔹 Minimum 5 participants requis pour valider l’atelier. \nPour garantir une ambiance chaleureuse et personnalisée\, le nombre de places est limité. N’attendez pas pour réserver ! \n\nPourquoi participer ?\n\nSe reconnecter à la nature et exprimer sa créativité.\nPartager un moment convivial avec d’autres passionnés.\nRepartir avec votre création florale\, fièrement réalisée par vos soins.\n\n\nComment s’inscrire ?\nPour toute inscription ou renseignement\, contactez directement l’association ARMLP par email : armlp37@gmail.com. \n\n🌸 Rejoignez-nous pour un moment fleuri et créatif qui éveillera vos sens et embellira votre quotidien. 🌸 \nÀ vos fleurs\, prêts… créez !
URL:https://armlp.fr/event/atelier-floral%f0%9f%8c%b8-7-2-2/
LOCATION:Maison de quartier Denise Dupleix\, 15 avenue André Ampère\, Saint-Cyr-Sur-Loire\, Indre-et-Loire\, 37540\, France
CATEGORIES:Atelier Floral
ATTACH;FMTTYPE=image/png:https://armlp.fr/wp-content/uploads/2025/10/Untitled_edited.png
ORGANIZER;CN="ARMLP":MAILTO:armlp37@gmail.com
END:VEVENT
BEGIN:VEVENT
DTSTART;TZID=UTC:20260615T101500
DTEND;TZID=UTC:20260615T114500
DTSTAMP:20260422T145420
CREATED:20251025T154115Z
LAST-MODIFIED:20251025T154115Z
UID:2979-1781518500-1781523900@armlp.fr
SUMMARY:SOPHROLOGIE
DESCRIPTION:
URL:https://armlp.fr/event/sophrologie-2-5-14/
LOCATION:Maison de quartier Denise Dupleix\, 15 avenue André Ampère\, Saint-Cyr-Sur-Loire\, Indre-et-Loire\, 37540\, France
CATEGORIES:sophrologie
ATTACH;FMTTYPE=image/png:https://armlp.fr/wp-content/uploads/2025/08/image.png
ORGANIZER;CN="ARMLP":MAILTO:armlp37@gmail.com
END:VEVENT
BEGIN:VEVENT
DTSTART;TZID=UTC:20260629T101500
DTEND;TZID=UTC:20260629T114500
DTSTAMP:20260422T145420
CREATED:20251025T154218Z
LAST-MODIFIED:20251025T154218Z
UID:2964-1782728100-1782733500@armlp.fr
SUMMARY:SOPHROLOGIE
DESCRIPTION:
URL:https://armlp.fr/event/sophrologie-2-5-15/
LOCATION:Maison de quartier Denise Dupleix\, 15 avenue André Ampère\, Saint-Cyr-Sur-Loire\, Indre-et-Loire\, 37540\, France
CATEGORIES:sophrologie
ATTACH;FMTTYPE=image/png:https://armlp.fr/wp-content/uploads/2025/08/image.png
ORGANIZER;CN="ARMLP":MAILTO:armlp37@gmail.com
END:VEVENT
END:VCALENDAR