BEGIN:VCALENDAR
VERSION:2.0
PRODID:-//ARMLP - ECPv6.8.3//NONSGML v1.0//EN
CALSCALE:GREGORIAN
METHOD:PUBLISH
X-WR-CALNAME:ARMLP
X-ORIGINAL-URL:https://armlp.fr
X-WR-CALDESC:Évènements pour ARMLP
REFRESH-INTERVAL;VALUE=DURATION:PT1H
X-Robots-Tag:noindex
X-PUBLISHED-TTL:PT1H
BEGIN:VTIMEZONE
TZID:UTC
BEGIN:STANDARD
TZOFFSETFROM:+0000
TZOFFSETTO:+0000
TZNAME:UTC
DTSTART:20260101T000000
END:STANDARD
END:VTIMEZONE
BEGIN:VEVENT
DTSTART;TZID=UTC:20260601T101500
DTEND;TZID=UTC:20260601T114500
DTSTAMP:20260422T193444
CREATED:20251025T154001Z
LAST-MODIFIED:20251025T154001Z
UID:2978-1780308900-1780314300@armlp.fr
SUMMARY:SOPHROLOGIE
DESCRIPTION:
URL:https://armlp.fr/event/sophrologie-2-5-13/
LOCATION:Maison de quartier Denise Dupleix\, 15 avenue André Ampère\, Saint-Cyr-Sur-Loire\, Indre-et-Loire\, 37540\, France
CATEGORIES:sophrologie
ATTACH;FMTTYPE=image/png:https://armlp.fr/wp-content/uploads/2025/08/image.png
ORGANIZER;CN="ARMLP":MAILTO:armlp37@gmail.com
END:VEVENT
BEGIN:VEVENT
DTSTART;TZID=UTC:20260615T101500
DTEND;TZID=UTC:20260615T114500
DTSTAMP:20260422T193444
CREATED:20251025T154115Z
LAST-MODIFIED:20251025T154115Z
UID:2979-1781518500-1781523900@armlp.fr
SUMMARY:SOPHROLOGIE
DESCRIPTION:
URL:https://armlp.fr/event/sophrologie-2-5-14/
LOCATION:Maison de quartier Denise Dupleix\, 15 avenue André Ampère\, Saint-Cyr-Sur-Loire\, Indre-et-Loire\, 37540\, France
CATEGORIES:sophrologie
ATTACH;FMTTYPE=image/png:https://armlp.fr/wp-content/uploads/2025/08/image.png
ORGANIZER;CN="ARMLP":MAILTO:armlp37@gmail.com
END:VEVENT
BEGIN:VEVENT
DTSTART;TZID=UTC:20260629T101500
DTEND;TZID=UTC:20260629T114500
DTSTAMP:20260422T193444
CREATED:20251025T154218Z
LAST-MODIFIED:20251025T154218Z
UID:2964-1782728100-1782733500@armlp.fr
SUMMARY:SOPHROLOGIE
DESCRIPTION:
URL:https://armlp.fr/event/sophrologie-2-5-15/
LOCATION:Maison de quartier Denise Dupleix\, 15 avenue André Ampère\, Saint-Cyr-Sur-Loire\, Indre-et-Loire\, 37540\, France
CATEGORIES:sophrologie
ATTACH;FMTTYPE=image/png:https://armlp.fr/wp-content/uploads/2025/08/image.png
ORGANIZER;CN="ARMLP":MAILTO:armlp37@gmail.com
END:VEVENT
END:VCALENDAR