BEGIN:VCALENDAR
VERSION:2.0
PRODID:-//ARMLP - ECPv6.8.3//NONSGML v1.0//EN
CALSCALE:GREGORIAN
METHOD:PUBLISH
X-ORIGINAL-URL:https://armlp.fr
X-WR-CALDESC:Évènements pour ARMLP
REFRESH-INTERVAL;VALUE=DURATION:PT1H
X-Robots-Tag:noindex
X-PUBLISHED-TTL:PT1H
BEGIN:VTIMEZONE
TZID:UTC
BEGIN:STANDARD
TZOFFSETFROM:+0000
TZOFFSETTO:+0000
TZNAME:UTC
DTSTART:20250101T000000
END:STANDARD
END:VTIMEZONE
BEGIN:VEVENT
DTSTART;TZID=UTC:20251213T180000
DTEND;TZID=UTC:20251213T203000
DTSTAMP:20260422T210032
CREATED:20251005T155933Z
LAST-MODIFIED:20251005T155933Z
UID:2933-1765648800-1765657800@armlp.fr
SUMMARY:NOEL ARMLP
DESCRIPTION:Soirée pour petits et grands amoureux du Père Noël\, du chocolat chaud\, du vin chaud et des bonbons. \nNous vous attendons nombreux.
URL:https://armlp.fr/event/noel-armlp/
LOCATION:Maison de quartier Denise Dupleix\, 15 avenue André Ampère\, Saint-Cyr-Sur-Loire\, Indre-et-Loire\, 37540\, France
CATEGORIES:2025
ATTACH;FMTTYPE=image/jpeg:https://armlp.fr/wp-content/uploads/2025/10/noel.jpg
ORGANIZER;CN="ARMLP":MAILTO:armlp37@gmail.com
END:VEVENT
END:VCALENDAR