BEGIN:VCALENDAR
VERSION:2.0
PRODID:-//ARMLP - ECPv6.8.3//NONSGML v1.0//EN
CALSCALE:GREGORIAN
METHOD:PUBLISH
X-ORIGINAL-URL:https://armlp.fr
X-WR-CALDESC:Évènements pour ARMLP
REFRESH-INTERVAL;VALUE=DURATION:PT1H
X-Robots-Tag:noindex
X-PUBLISHED-TTL:PT1H
BEGIN:VTIMEZONE
TZID:UTC
BEGIN:STANDARD
TZOFFSETFROM:+0000
TZOFFSETTO:+0000
TZNAME:UTC
DTSTART:20250101T000000
END:STANDARD
END:VTIMEZONE
BEGIN:VEVENT
DTSTART;TZID=UTC:20251212T110000
DTEND;TZID=UTC:20251212T120000
DTSTAMP:20260422T210033
CREATED:20251005T153457Z
LAST-MODIFIED:20251005T153457Z
UID:2908-1765537200-1765540800@armlp.fr
SUMMARY:DO IN
DESCRIPTION:
URL:https://armlp.fr/event/do-in-2-10-3/
LOCATION:Maison de quartier Denise Dupleix\, 15 avenue André Ampère\, Saint-Cyr-Sur-Loire\, Indre-et-Loire\, 37540\, France
CATEGORIES:do in
ATTACH;FMTTYPE=image/jpeg:https://armlp.fr/wp-content/uploads/2025/08/do-in-pincement-nuque.jpg
ORGANIZER;CN="ARMLP":MAILTO:armlp37@gmail.com
END:VEVENT
BEGIN:VEVENT
DTSTART;TZID=UTC:20251212T140000
DTEND;TZID=UTC:20251212T160000
DTSTAMP:20260422T210033
CREATED:20251019T082359Z
LAST-MODIFIED:20251019T082359Z
UID:2947-1765548000-1765555200@armlp.fr
SUMMARY:ATELIER COUTURE ✂👗
DESCRIPTION:
URL:https://armlp.fr/event/atelier-couture-%e2%9c%82%f0%9f%91%97-2-3/
LOCATION:Maison de quartier Denise Dupleix\, 15 avenue André Ampère\, Saint-Cyr-Sur-Loire\, Indre-et-Loire\, 37540\, France
CATEGORIES:Atelier Couture
ATTACH;FMTTYPE=image/avif:https://armlp.fr/wp-content/uploads/2025/01/photo-1457972657980-4c9fddebec8d.avif
ORGANIZER;CN="ARMLP":MAILTO:armlp37@gmail.com
END:VEVENT
END:VCALENDAR