BEGIN:VCALENDAR
VERSION:2.0
PRODID:-//ARMLP - ECPv6.8.3//NONSGML v1.0//EN
CALSCALE:GREGORIAN
METHOD:PUBLISH
X-WR-CALNAME:ARMLP
X-ORIGINAL-URL:https://armlp.fr
X-WR-CALDESC:Évènements pour ARMLP
REFRESH-INTERVAL;VALUE=DURATION:PT1H
X-Robots-Tag:noindex
X-PUBLISHED-TTL:PT1H
BEGIN:VTIMEZONE
TZID:UTC
BEGIN:STANDARD
TZOFFSETFROM:+0000
TZOFFSETTO:+0000
TZNAME:UTC
DTSTART:20250101T000000
END:STANDARD
END:VTIMEZONE
BEGIN:VEVENT
DTSTART;TZID=UTC:20251008T140000
DTEND;TZID=UTC:20251008T150000
DTSTAMP:20260422T234331
CREATED:20250923T132825Z
LAST-MODIFIED:20250923T132825Z
UID:2838-1759932000-1759935600@armlp.fr
SUMMARY:CONSERVATOIRE CONFISERIE D'AMBOISE
DESCRIPTION:Bonjour \nL’ARMLP propose une visite à la confiserie d’Amboise le mercredi  8 octobre à 14 h sous réserve de 25 inscriptions. A défaut \, la visite n’aura pas lieu. \nVisite du conservatoire avec démonstration de la fabrication\, échange avec les confiseurs le tout pour une durée d’une heure puis une sortie par la boutique à ambiance Victorienne haute en nostalgie et produits issus de la fabrication du conservatoire (sucettes\, berlingots\, pastilles\, nougats\, pralines\, pâtes de fruits etc..) \nGrand parking gratuit et accessible aux bus. \nLes conditions pour les groupes sont les suivantes: De 25 à 80 personnes.\nPour un tarif de 4\,50€ par personne et de 2\,50€ par enfant de 5 à 16 ans (Tarif 2025 et 2026) Horaires: 14 h 00 \n L’ARMLP demande de s’inscrire au plus vite et impérativement avant le 26 septembre pour l’organisation de la confiserie \nMerci de votre compréhension
URL:https://armlp.fr/event/conservatoire-confiserie-damboise/
LOCATION:Conservatoire Confiserie\, rue Germain Chauveau\, Amboise\, 37400\, France
CATEGORIES:Visite
ATTACH;FMTTYPE=image/jpeg:https://armlp.fr/wp-content/uploads/2025/09/OLC.jpeg
ORGANIZER;CN="ARMLP":MAILTO:armlp37@gmail.com
END:VEVENT
END:VCALENDAR