BEGIN:VCALENDAR
VERSION:2.0
PRODID:-//ARMLP - ECPv6.8.3//NONSGML v1.0//EN
CALSCALE:GREGORIAN
METHOD:PUBLISH
X-WR-CALNAME:ARMLP
X-ORIGINAL-URL:https://armlp.fr
X-WR-CALDESC:Évènements pour ARMLP
REFRESH-INTERVAL;VALUE=DURATION:PT1H
X-Robots-Tag:noindex
X-PUBLISHED-TTL:PT1H
BEGIN:VTIMEZONE
TZID:UTC
BEGIN:STANDARD
TZOFFSETFROM:+0000
TZOFFSETTO:+0000
TZNAME:UTC
DTSTART:20250101T000000
END:STANDARD
END:VTIMEZONE
BEGIN:VEVENT
DTSTART;TZID=UTC:20251003T203000
DTEND;TZID=UTC:20251003T213000
DTSTAMP:20260422T235839
CREATED:20251001T174801Z
LAST-MODIFIED:20251001T174801Z
UID:2844-1759523400-1759527000@armlp.fr
SUMMARY:JARDIN DE LA PREFECTURE DE TOURS
DESCRIPTION:Un membre de notre association\, M. WYCKE\, vient d’éditer un livre relatant l’histoire de la Préfecture de TOURS. \nIl viendra nous présenter\, EN DIAPORAMA\, la partie consacrée au JARDIN de la PREFECTURE.
URL:https://armlp.fr/event/jardin-de-la-prefecture-de-tours/
LOCATION:Maison de quartier Denise Dupleix\, 15 avenue André Ampère\, Saint-Cyr-Sur-Loire\, Indre-et-Loire\, 37540\, France
CATEGORIES:Conférence
ATTACH;FMTTYPE=image/jpeg:https://armlp.fr/wp-content/uploads/2025/10/Jardin-Pref-Tours.jpeg
ORGANIZER;CN="ARMLP":MAILTO:armlp37@gmail.com
END:VEVENT
END:VCALENDAR